View In:
ArcGIS JavaScript
ArcGIS Online Map Viewer
ArcGIS Earth
ArcMap
View Footprint In:
ArcGIS Online Map Viewer
Service Description: This data set contains digital ortho-imagery developed to support planning and delivery of USDA programs. The USDA field service centers use digital ortho imagery as a basic reference for conservation plans and soil survey. The imagery has a 1 meter ground sample distance (GSD) ortho imagery rectified to National Mapping Standards at the 1:24,000 scale. Imagery is based on a (7.5 x 15) or (7.5 x11.25) minute quarter quadrangle with a 300 meter buffer on all four sides. Quarter quads imagery is formatted to the UTM coordinate system using NAD83. Each quad may contain as much as 10% cloud cover per tile. This file was generated by compressing quarter quadrangle tiles that cover a project area. MrSID compression, with mosaic option, was used. Target values for the compression ratio are (15:1) and compression levels (9) are used.
Credits: The Aerial Photography Field Office asks to be credited in derived products.
Name: Imagery/AerialImage_ND_2005
Description: This data set contains digital ortho-imagery developed to support planning and delivery of USDA programs. The USDA field service centers use digital ortho imagery as a basic reference for conservation plans and soil survey. The imagery has a 1 meter ground sample distance (GSD) ortho imagery rectified to National Mapping Standards at the 1:24,000 scale. Imagery is based on a (7.5 x 15) or (7.5 x11.25) minute quarter quadrangle with a 300 meter buffer on all four sides. Quarter quads imagery is formatted to the UTM coordinate system using NAD83. Each quad may contain as much as 10% cloud cover per tile. This file was generated by compressing quarter quadrangle tiles that cover a project area. MrSID compression, with mosaic option, was used. Target values for the compression ratio are (15:1) and compression levels (9) are used.
Credits: The Aerial Photography Field Office asks to be credited in derived products.
Single Fused Map Cache: false
Extent:
XMin: 107157.0
YMin: 5086790.0
XMax: 694110.0
YMax: 5440210.0
Spatial Reference: 26914
(26914)
LatestVCSWkid(0)
Initial Extent:
XMin: 107157.0
YMin: 5086790.0
XMax: 694110.0
YMax: 5440210.0
Spatial Reference: 26914
(26914)
LatestVCSWkid(0)
Full Extent:
XMin: 107157.0
YMin: 5086790.0
XMax: 694110.0
YMax: 5440210.0
Spatial Reference: 26914
(26914)
LatestVCSWkid(0)
Pixel Size X: 1.0
Pixel Size Y: 1.0
Band Count: 3
Pixel Type: U8
RasterFunction Infos: {"rasterFunctionInfos": [{
"name": "None",
"description": "",
"help": ""
}]}
Mensuration Capabilities: None
Has Histograms: true
Has Colormap: false
Has Multi Dimensions : false
Rendering Rule:
Min Scale: 0
Max Scale: 0
Copyright Text:
Service Data Type: esriImageServiceDataTypeProcessed
Min Values: 0, 0, 0
Max Values: 255, 255, 250
Mean Values: 64.98945751549414, 87.66101522865289, 73.26333901488954
Standard Deviation Values: 27.764989025747543, 21.993707210371443, 16.84279800366396
Object ID Field: OBJECTID
Fields:
-
OBJECTID
(
type: esriFieldTypeOID, alias: OBJECTID
)
-
Shape
(
type: esriFieldTypeGeometry, alias: Shape
)
-
Name
(
type: esriFieldTypeString, alias: Name, length: 200
)
-
MinPS
(
type: esriFieldTypeDouble, alias: MinPS
)
-
MaxPS
(
type: esriFieldTypeDouble, alias: MaxPS
)
-
LowPS
(
type: esriFieldTypeDouble, alias: LowPS
)
-
HighPS
(
type: esriFieldTypeDouble, alias: HighPS
)
-
Category
(
type: esriFieldTypeInteger, alias: Category
, Coded Values:
[0: Unknown]
, [1: Primary]
, [2: Overview]
, ...6 more...
)
-
Tag
(
type: esriFieldTypeString, alias: Tag, length: 100
)
-
GroupName
(
type: esriFieldTypeString, alias: GroupName, length: 100
)
-
ProductName
(
type: esriFieldTypeString, alias: ProductName, length: 100
)
-
CenterX
(
type: esriFieldTypeDouble, alias: CenterX
)
-
CenterY
(
type: esriFieldTypeDouble, alias: CenterY
)
-
ZOrder
(
type: esriFieldTypeInteger, alias: ZOrder
)
-
Shape_Length
(
type: esriFieldTypeDouble, alias: Shape_Length
)
-
Shape_Area
(
type: esriFieldTypeDouble, alias: Shape_Area
)
Default Mosaic Method: Northwest
Allowed Mosaic Methods: NorthWest,Center,LockRaster,ByAttribute,Nadir,Viewpoint,Seamline,None
SortField:
SortValue: null
Mosaic Operator: First
Default Compression Quality: 75
Default Resampling Method: Bilinear
Max Record Count: 1000
Max Image Height: 4100
Max Image Width: 15000
Max Download Image Count: 20
Max Mosaic Image Count: 20
Allow Raster Function: true
Allow Copy: true
Allow Analysis: true
Allow Compute TiePoints: false
Supports Statistics: true
Supports Advanced Queries: true
Use StandardizedQueries: true
Raster Type Infos:
Name: Raster Dataset
Description: Supports all ArcGIS Raster Datasets
Help:
Has Raster Attribute Table: false
Edit Fields Info: null
Ownership Based AccessControl For Rasters: null
Child Resources:
Info
Histograms
Statistics
Key Properties
Legend
Raster Function Infos
Supported Operations:
Export Image
Query
Identify
Compute Histograms
Compute Statistics Histograms
Get Samples
Compute Class Statistics
Query Boundary
Compute Pixel Location
Compute Angles
Validate
Project