View In:
ArcGIS JavaScript
ArcGIS Online Map Viewer
ArcGIS Earth
ArcMap
View Footprint In:
ArcGIS Online Map Viewer
Service Description: Digital Orthophoto Quarter Quadrangles for North Dakota. The aerial image files in this archive are copies of standard digital orthophoto quarter quadrangles (DOQQ) received from the Natural Resource and Conservation Service which they obtained from the US Geological Survey. We have also updated the mosaic with DOQQs obtained directly from the USGS. The projection for the mosaic is UTM, NAD83, Zone 14. Dates range from approximately 1995 on the western side of the state thru 1998 on the eastern side of the state. An index is available within the feature class called QuadIndex_Poly. The field within the attribute table which gives the date of photography for any particular quarter-quadrangle is DOQQ_DATE. DOQ images were acquired in native BSQ or TIFF format and either 1) left in UTM, NAD83, Zone 14 format, or 2) reprojected from UTM NAD83 Zone 13 to Zone 14 using ArcInfo Workstation vers. 8.2, 8.3, and 9.0; They were then clipped to USGS 3.75' quarter quadrangles before being mosaiced into state-wide image; Resampling for SDE pyramids was done using bilinear interpolation. The work was done June 2002 thru September 2004Image acquisition scale: 1:40,000 (1"=3,333 feet); Map scale: Meets national map accuracy standards for the scale of 1:12,000 (1"=1000 feet); Accuracy: +/- 33.3 feet; Pixel size: 1 meter x 1 meter.
Credits: State Water Commission, U.S. Geological Survey, Natural Resources and Conservation Service
Name: Imagery/AerialImage_ND_19951998
Description: Digital Orthophoto Quarter Quadrangles for North Dakota. The aerial image files in this archive are copies of standard digital orthophoto quarter quadrangles (DOQQ) received from the Natural Resource and Conservation Service which they obtained from the US Geological Survey. We have also updated the mosaic with DOQQs obtained directly from the USGS. The projection for the mosaic is UTM, NAD83, Zone 14. Dates range from approximately 1995 on the western side of the state thru 1998 on the eastern side of the state. An index is available within the feature class called QuadIndex_Poly. The field within the attribute table which gives the date of photography for any particular quarter-quadrangle is DOQQ_DATE. DOQ images were acquired in native BSQ or TIFF format and either 1) left in UTM, NAD83, Zone 14 format, or 2) reprojected from UTM NAD83 Zone 13 to Zone 14 using ArcInfo Workstation vers. 8.2, 8.3, and 9.0; They were then clipped to USGS 3.75' quarter quadrangles before being mosaiced into state-wide image; Resampling for SDE pyramids was done using bilinear interpolation. The work was done June 2002 thru September 2004Image acquisition scale: 1:40,000 (1"=3,333 feet); Map scale: Meets national map accuracy standards for the scale of 1:12,000 (1"=1000 feet); Accuracy: +/- 33.3 feet; Pixel size: 1 meter x 1 meter.
Credits: State Water Commission, U.S. Geological Survey, Natural Resources and Conservation Service
Single Fused Map Cache: false
Extent:
XMin: 101844.0000000064
YMin: 5080155.0
XMax: 694098.0
YMax: 5439820.999999996
Spatial Reference: 26914
(26914)
LatestVCSWkid(0)
Initial Extent:
XMin: 101844.0000000064
YMin: 5080155.0
XMax: 694098.0
YMax: 5439820.999999996
Spatial Reference: 26914
(26914)
LatestVCSWkid(0)
Full Extent:
XMin: 101844.0000000064
YMin: 5080155.0
XMax: 694098.0
YMax: 5439820.999999996
Spatial Reference: 26914
(26914)
LatestVCSWkid(0)
Pixel Size X: 0.9999999999999892
Pixel Size Y: 0.9999999999999897
Band Count: 3
Pixel Type: U8
RasterFunction Infos: {"rasterFunctionInfos": [{
"name": "None",
"description": "",
"help": ""
}]}
Mensuration Capabilities: None
Has Histograms: true
Has Colormap: false
Has Multi Dimensions : false
Rendering Rule:
Min Scale: 0
Max Scale: 0
Copyright Text:
Service Data Type: esriImageServiceDataTypeProcessed
Min Values: 0, 0, 0
Max Values: 255, 255, 255
Mean Values: 117.90890298226594, 117.90890298226594, 117.90890298226594
Standard Deviation Values: 34.76377970235709, 34.76377970235709, 34.76377970235709
Object ID Field: OBJECTID
Fields:
-
OBJECTID
(
type: esriFieldTypeOID, alias: OBJECTID
)
-
Shape
(
type: esriFieldTypeGeometry, alias: Shape
)
-
Name
(
type: esriFieldTypeString, alias: Name, length: 200
)
-
MinPS
(
type: esriFieldTypeDouble, alias: MinPS
)
-
MaxPS
(
type: esriFieldTypeDouble, alias: MaxPS
)
-
LowPS
(
type: esriFieldTypeDouble, alias: LowPS
)
-
HighPS
(
type: esriFieldTypeDouble, alias: HighPS
)
-
Category
(
type: esriFieldTypeInteger, alias: Category
, Coded Values:
[0: Unknown]
, [1: Primary]
, [2: Overview]
, ...5 more...
)
-
Tag
(
type: esriFieldTypeString, alias: Tag, length: 100
)
-
GroupName
(
type: esriFieldTypeString, alias: GroupName, length: 100
)
-
ProductName
(
type: esriFieldTypeString, alias: ProductName, length: 100
)
-
CenterX
(
type: esriFieldTypeDouble, alias: CenterX
)
-
CenterY
(
type: esriFieldTypeDouble, alias: CenterY
)
-
ZOrder
(
type: esriFieldTypeInteger, alias: ZOrder
)
-
Shape_Length
(
type: esriFieldTypeDouble, alias: Shape_Length
)
-
Shape_Area
(
type: esriFieldTypeDouble, alias: Shape_Area
)
-
kill
(
type: esriFieldTypeString, alias: kill, length: 5
)
Default Mosaic Method: Northwest
Allowed Mosaic Methods: NorthWest,Center,LockRaster,ByAttribute,Nadir,Viewpoint,Seamline,None
SortField:
SortValue: null
Mosaic Operator: First
Default Compression Quality: 75
Default Resampling Method: Bilinear
Max Record Count: 1000
Max Image Height: 4100
Max Image Width: 15000
Max Download Image Count: 20
Max Mosaic Image Count: 20
Allow Raster Function: true
Allow Copy: true
Allow Analysis: true
Allow Compute TiePoints: false
Supports Statistics: true
Supports Advanced Queries: true
Use StandardizedQueries: true
Raster Type Infos:
Name: Raster Dataset
Description: Supports all ArcGIS Raster Datasets
Help:
Has Raster Attribute Table: false
Edit Fields Info: null
Ownership Based AccessControl For Rasters: null
Child Resources:
Info
Histograms
Statistics
Key Properties
Legend
Raster Function Infos
Supported Operations:
Export Image
Query
Identify
Compute Histograms
Compute Statistics Histograms
Get Samples
Compute Class Statistics
Query Boundary
Compute Pixel Location
Compute Angles
Validate
Project