View In:
ArcGIS JavaScript
ArcGIS Online Map Viewer
ArcGIS Earth
ArcMap
View Footprint In:
ArcGIS Online Map Viewer
Service Description: This imagery was collected on October 26th 2013 and covers a corridor of the Missouri River system from the northern border of Emmons County (northern Lake Oahe) north to Garrison Dam. This resolution of this imagery is sub foot (~10 inches). The fall discharge level of 13,100 cfs (Garrison)/ 14,9000 cfs (Bismarck) on the Missouri river provided an opportunity for comparison with the 2010 discharge level of 13,900 cfs (Garrison)/ 15,400 cfs (Bismarck) available on the 2010 NAIP imagery.
Name: Imagery/AerialImage_MissouriRiver_2013
Description: This imagery was collected on October 26th 2013 and covers a corridor of the Missouri River system from the northern border of Emmons County (northern Lake Oahe) north to Garrison Dam. This resolution of this imagery is sub foot (~10 inches). The fall discharge level of 13,100 cfs (Garrison)/ 14,9000 cfs (Bismarck) on the Missouri river provided an opportunity for comparison with the 2010 discharge level of 13,900 cfs (Garrison)/ 15,400 cfs (Bismarck) available on the 2010 NAIP imagery.
Single Fused Map Cache: false
Extent:
XMin: 1729917.0748262445
YMin: 341016.0649838839
XMax: 1952975.4026432603
YMax: 681354.342502333
Spatial Reference: 2266
(2266)
LatestVCSWkid(0)
Initial Extent:
XMin: 1729917.0748262445
YMin: 341016.0649838839
XMax: 1952975.4026432603
YMax: 681354.342502333
Spatial Reference: 2266
(2266)
LatestVCSWkid(0)
Full Extent:
XMin: 1729917.0748262445
YMin: 341016.0649838839
XMax: 1952975.4026432603
YMax: 681354.342502333
Spatial Reference: 2266
(2266)
LatestVCSWkid(0)
Pixel Size X: 0.7363362090813581
Pixel Size Y: 0.7363362090813581
Band Count: 3
Pixel Type: U8
RasterFunction Infos: {"rasterFunctionInfos": [{
"name": "None",
"description": "",
"help": ""
}]}
Mensuration Capabilities:
Has Histograms: true
Has Colormap: false
Has Multi Dimensions : false
Rendering Rule:
Min Scale: 0
Max Scale: 0
Copyright Text: North Dakota Game and Fish Department, North Dakota Department of Transportation, ND GIS Hub
Service Data Type: esriImageServiceDataTypeProcessed
Min Values: 39, 45, 51
Max Values: 250, 252, 255
Mean Values: 111.0422853371913, 110.44871697251199, 106.20576664382345
Standard Deviation Values: 24.066775425245904, 19.041225636295696, 15.756897828465727
Object ID Field: OBJECTID
Fields:
-
OBJECTID
(
type: esriFieldTypeOID, alias: OBJECTID
)
-
Shape
(
type: esriFieldTypeGeometry, alias: Shape
)
-
Name
(
type: esriFieldTypeString, alias: Name, length: 50
)
-
MinPS
(
type: esriFieldTypeDouble, alias: MinPS
)
-
MaxPS
(
type: esriFieldTypeDouble, alias: MaxPS
)
-
LowPS
(
type: esriFieldTypeDouble, alias: LowPS
)
-
HighPS
(
type: esriFieldTypeDouble, alias: HighPS
)
-
Category
(
type: esriFieldTypeInteger, alias: Category
)
-
Tag
(
type: esriFieldTypeString, alias: Tag, length: 20
)
-
GroupName
(
type: esriFieldTypeString, alias: GroupName, length: 50
)
-
ProductName
(
type: esriFieldTypeString, alias: ProductName, length: 50
)
-
CenterX
(
type: esriFieldTypeDouble, alias: CenterX
)
-
CenterY
(
type: esriFieldTypeDouble, alias: CenterY
)
-
ZOrder
(
type: esriFieldTypeInteger, alias: ZOrder
)
-
SOrder
(
type: esriFieldTypeInteger, alias: SOrder
)
-
StereoID
(
type: esriFieldTypeString, alias: StereoID, length: 50
)
-
Shape_Length
(
type: esriFieldTypeDouble, alias: Shape_Length
)
-
Shape_Area
(
type: esriFieldTypeDouble, alias: Shape_Area
)
Default Mosaic Method: Center
Allowed Mosaic Methods: Center,NorthWest,LockRaster,ByAttribute,Nadir,Viewpoint,Seamline,None
SortField:
SortValue: null
Mosaic Operator: First
Default Compression Quality: 75
Default Resampling Method: Bilinear
Max Record Count: 1000
Max Image Height: 4100
Max Image Width: 15000
Max Download Image Count: 20
Max Mosaic Image Count: 20
Allow Raster Function: true
Allow Copy: true
Allow Analysis: true
Allow Compute TiePoints: false
Supports Statistics: true
Supports Advanced Queries: true
Use StandardizedQueries: true
Raster Type Infos:
Name: Raster Dataset
Description: Supports all ArcGIS Raster Datasets
Help:
Has Raster Attribute Table: false
Edit Fields Info: null
Ownership Based AccessControl For Rasters: null
Child Resources:
Info
Histograms
Statistics
Key Properties
Legend
Raster Function Infos
Supported Operations:
Export Image
Query
Identify
Compute Histograms
Compute Statistics Histograms
Get Samples
Compute Class Statistics
Query Boundary
Compute Pixel Location
Compute Angles
Validate
Project