View In:
ArcGIS JavaScript
ArcGIS Online Map Viewer
ArcGIS Earth
ArcMap
View Footprint In:
ArcGIS Online Map Viewer
Service Description: Mosaic of aerial photos for the Devils Lake, North Dakota region. Data set compiled by FEMA. Consists of 29 flight lines, 835 exposures, flown February 2-5, 2000 by Surdex Corporation. The photo scale is 1"=200' with a pixel resolution of 1.0 feet. Horizontal positional accuracy is +/- 3 feet. The original format was Black and White TIFF.
Name: Imagery/AerialImage_DevilsLake_2000
Description: Mosaic of aerial photos for the Devils Lake, North Dakota region. Data set compiled by FEMA. Consists of 29 flight lines, 835 exposures, flown February 2-5, 2000 by Surdex Corporation. The photo scale is 1"=200' with a pixel resolution of 1.0 feet. Horizontal positional accuracy is +/- 3 feet. The original format was Black and White TIFF.
Single Fused Map Cache: false
Extent:
XMin: 476755.1800000002
YMin: 5297382.960000011
XMax: 554455.7799999894
YMax: 5370993.360000001
Spatial Reference: 26914
(26914)
LatestVCSWkid(0)
Initial Extent:
XMin: 476755.1800000002
YMin: 5297382.960000011
XMax: 554455.7799999894
YMax: 5370993.360000001
Spatial Reference: 26914
(26914)
LatestVCSWkid(0)
Full Extent:
XMin: 476755.1800000002
YMin: 5297382.960000011
XMax: 554455.7799999894
YMax: 5370993.360000001
Spatial Reference: 26914
(26914)
LatestVCSWkid(0)
Pixel Size X: 0.29999999999995836
Pixel Size Y: 0.29999999999995974
Band Count: 3
Pixel Type: U8
RasterFunction Infos: {"rasterFunctionInfos": [{
"name": "None",
"description": "A No-Op Function.",
"help": ""
}]}
Mensuration Capabilities: None
Has Histograms: true
Has Colormap: false
Has Multi Dimensions : false
Rendering Rule:
Min Scale: 0
Max Scale: 0
Copyright Text: FEMA, Department of Emergency Services
Service Data Type: esriImageServiceDataTypeProcessed
Min Values: 0, 0, 0
Max Values: 243, 243, 243
Mean Values: 92.96079078527796, 92.96079078527796, 92.96079078527796
Standard Deviation Values: 68.34546126880129, 68.34546126880129, 68.34546126880129
Object ID Field: OBJECTID
Fields:
-
OBJECTID
(
type: esriFieldTypeOID, alias: OBJECTID
)
-
Shape
(
type: esriFieldTypeGeometry, alias: Shape
)
-
Name
(
type: esriFieldTypeString, alias: Name, length: 200
)
-
MinPS
(
type: esriFieldTypeDouble, alias: MinPS
)
-
MaxPS
(
type: esriFieldTypeDouble, alias: MaxPS
)
-
LowPS
(
type: esriFieldTypeDouble, alias: LowPS
)
-
HighPS
(
type: esriFieldTypeDouble, alias: HighPS
)
-
Category
(
type: esriFieldTypeInteger, alias: Category
, Coded Values:
[0: Unknown]
, [1: Primary]
, [2: Overview]
, ...6 more...
)
-
Tag
(
type: esriFieldTypeString, alias: Tag, length: 100
)
-
GroupName
(
type: esriFieldTypeString, alias: GroupName, length: 100
)
-
ProductName
(
type: esriFieldTypeString, alias: ProductName, length: 100
)
-
CenterX
(
type: esriFieldTypeDouble, alias: CenterX
)
-
CenterY
(
type: esriFieldTypeDouble, alias: CenterY
)
-
ZOrder
(
type: esriFieldTypeInteger, alias: ZOrder
)
-
Shape_Length
(
type: esriFieldTypeDouble, alias: Shape_Length
)
-
Shape_Area
(
type: esriFieldTypeDouble, alias: Shape_Area
)
Default Mosaic Method: Northwest
Allowed Mosaic Methods: NorthWest,Center,Nadir,Viewpoint,LockRaster,ByAttribute,Seamline,None
SortField:
SortValue: null
Mosaic Operator: First
Default Compression Quality: 75
Default Resampling Method: Bilinear
Max Record Count: 2000
Max Image Height: 4100
Max Image Width: 15000
Max Download Image Count: 50
Max Mosaic Image Count: 50
Allow Raster Function: true
Allow Copy: true
Allow Analysis: true
Allow Compute TiePoints: false
Supports Statistics: true
Supports Advanced Queries: true
Use StandardizedQueries: true
Raster Type Infos:
Name: Raster Dataset
Description: Supports all ArcGIS Raster Datasets
Help:
Has Raster Attribute Table: false
Edit Fields Info: null
Ownership Based AccessControl For Rasters: null
Child Resources:
Info
Histograms
Statistics
Key Properties
Legend
Raster Function Infos
Supported Operations:
Export Image
Query
Identify
Compute Histograms
Compute Statistics Histograms
Get Samples
Compute Class Statistics
Query Boundary
Compute Pixel Location
Compute Angles
Validate
Project