View In:
ArcGIS JavaScript
ArcGIS Online Map Viewer
ArcGIS Earth
ArcMap
View Footprint In:
ArcGIS Online Map Viewer
Service Description: Aero-graphics acquired .5-foot pixel resolution digital imagery over approximately 1767 square miles located in Cass County, North Dakota. Images were flown with a Piper PA-23 Aztec aircraft equipped with a Microsoft/Vexcel UltraCam Eagle digital camera by Aero-graphics, Inc on April 13, 21 and 22, 2016. There are a total of 1789 ortho tiles available in GeoTIFF and SID formats, along with 6 larger SID mosaics. Credit: Cass County, ND and Aero-graphics, Inc.
Name: Imagery/AerialImage_Cass_2016
Description: Aero-graphics acquired .5-foot pixel resolution digital imagery over approximately 1767 square miles located in Cass County, North Dakota. Images were flown with a Piper PA-23 Aztec aircraft equipped with a Microsoft/Vexcel UltraCam Eagle digital camera by Aero-graphics, Inc on April 13, 21 and 22, 2016. There are a total of 1789 ortho tiles available in GeoTIFF and SID formats, along with 6 larger SID mosaics. Credit: Cass County, ND and Aero-graphics, Inc.
Single Fused Map Cache: false
Extent:
XMin: 2662356.0
YMin: 363989.0
XMax: 2904464.0
YMax: 594159.0
Spatial Reference: 102721
(102721)
LatestVCSWkid(0)
Initial Extent:
XMin: 2662356.0
YMin: 363989.0
XMax: 2904464.0
YMax: 594159.0
Spatial Reference: 102721
(102721)
LatestVCSWkid(0)
Full Extent:
XMin: 2662356.0
YMin: 363989.0
XMax: 2904464.0
YMax: 594159.0
Spatial Reference: 102721
(102721)
LatestVCSWkid(0)
Pixel Size X: 0.5
Pixel Size Y: 0.5
Band Count: 3
Pixel Type: U8
RasterFunction Infos: {"rasterFunctionInfos": [{
"name": "None",
"description": "",
"help": ""
}]}
Mensuration Capabilities: None
Has Histograms: true
Has Colormap: false
Has Multi Dimensions : false
Rendering Rule:
Min Scale: 0
Max Scale: 0
Copyright Text:
Service Data Type: esriImageServiceDataTypeProcessed
Min Values: 0, 15, 24
Max Values: 255, 253, 255
Mean Values: 110.78161511601432, 103.41488901262147, 98.80629225286232
Standard Deviation Values: 25.881151831574577, 21.822830489074825, 18.637607027224348
Object ID Field: OBJECTID
Fields:
-
OBJECTID
(
type: esriFieldTypeOID, alias: OBJECTID
)
-
Shape
(
type: esriFieldTypeGeometry, alias: Shape
)
-
Name
(
type: esriFieldTypeString, alias: Name, length: 200
)
-
MinPS
(
type: esriFieldTypeDouble, alias: MinPS
)
-
MaxPS
(
type: esriFieldTypeDouble, alias: MaxPS
)
-
LowPS
(
type: esriFieldTypeDouble, alias: LowPS
)
-
HighPS
(
type: esriFieldTypeDouble, alias: HighPS
)
-
Category
(
type: esriFieldTypeInteger, alias: Category
, Coded Values:
[0: Unknown]
, [1: Primary]
, [2: Overview]
, ...5 more...
)
-
Tag
(
type: esriFieldTypeString, alias: Tag, length: 100
)
-
GroupName
(
type: esriFieldTypeString, alias: GroupName, length: 100
)
-
ProductName
(
type: esriFieldTypeString, alias: ProductName, length: 100
)
-
CenterX
(
type: esriFieldTypeDouble, alias: CenterX
)
-
CenterY
(
type: esriFieldTypeDouble, alias: CenterY
)
-
ZOrder
(
type: esriFieldTypeInteger, alias: ZOrder
)
-
Shape_Length
(
type: esriFieldTypeDouble, alias: Shape_Length
)
-
Shape_Area
(
type: esriFieldTypeDouble, alias: Shape_Area
)
Default Mosaic Method: Northwest
Allowed Mosaic Methods: NorthWest,Center,LockRaster,ByAttribute,Nadir,Viewpoint,Seamline,None
SortField:
SortValue: null
Mosaic Operator: First
Default Compression Quality: 75
Default Resampling Method: Bilinear
Max Record Count: 1000
Max Image Height: 4100
Max Image Width: 15000
Max Download Image Count: 20
Max Mosaic Image Count: 20
Allow Raster Function: true
Allow Copy: true
Allow Analysis: true
Allow Compute TiePoints: false
Supports Statistics: true
Supports Advanced Queries: true
Use StandardizedQueries: true
Raster Type Infos:
Name: Raster Dataset
Description: Supports all ArcGIS Raster Datasets
Help:
Has Raster Attribute Table: false
Edit Fields Info: null
Ownership Based AccessControl For Rasters: null
Child Resources:
Info
Histograms
Statistics
Key Properties
Legend
Raster Function Infos
Supported Operations:
Export Image
Query
Identify
Compute Histograms
Compute Statistics Histograms
Get Samples
Compute Class Statistics
Query Boundary
Compute Pixel Location
Compute Angles
Validate
Project