View In:
ArcGIS JavaScript
ArcGIS Online Map Viewer
ArcGIS Earth
ArcMap
View Footprint In:
ArcGIS Online Map Viewer
Service Description: The project encompassed an area of approximately 1304 square miles. A Leica ADS40/SH52 Digital Camera system including an inertial measuring unit (IMU) and a dual frequency airborne GPS receiver was used for the digital image acquisition. Imagery acquisition was performed May 15-17, 2011 at 4800' AMT (above mean terrain), with 30 percent sidelap between the flight lines. Digital orthophotos in TIFF format were produced with a resolution of 0.5 foot utilizing the ADS40/SH52 imagery and Red River Basin LiDAR Elevation DEM.
Name: Imagery/AerialImage_Cass_2011
Description: The project encompassed an area of approximately 1304 square miles. A Leica ADS40/SH52 Digital Camera system including an inertial measuring unit (IMU) and a dual frequency airborne GPS receiver was used for the digital image acquisition. Imagery acquisition was performed May 15-17, 2011 at 4800' AMT (above mean terrain), with 30 percent sidelap between the flight lines. Digital orthophotos in TIFF format were produced with a resolution of 0.5 foot utilizing the ADS40/SH52 imagery and Red River Basin LiDAR Elevation DEM.
Single Fused Map Cache: false
Extent:
XMin: 2660990.5
YMin: 362654.5
XMax: 2905731.5
YMax: 595457.5
Spatial Reference: 102721
(102721)
LatestVCSWkid(0)
Initial Extent:
XMin: 2660990.5
YMin: 362654.5
XMax: 2905731.5
YMax: 595457.5
Spatial Reference: 102721
(102721)
LatestVCSWkid(0)
Full Extent:
XMin: 2660990.5
YMin: 362654.5
XMax: 2905731.5
YMax: 595457.5
Spatial Reference: 102721
(102721)
LatestVCSWkid(0)
Pixel Size X: 0.5
Pixel Size Y: 0.5
Band Count: 3
Pixel Type: U8
RasterFunction Infos: {"rasterFunctionInfos": [{
"name": "None",
"description": "",
"help": ""
}]}
Mensuration Capabilities:
Has Histograms: true
Has Colormap: false
Has Multi Dimensions : false
Rendering Rule:
Min Scale: 0
Max Scale: 0
Copyright Text: Cass County, North Dakota
Service Data Type: esriImageServiceDataTypeProcessed
Min Values: 0, 0, 0
Max Values: 255, 255, 255
Mean Values: 97.72626103853995, 100.1175305084993, 98.20301264769009
Standard Deviation Values: 55.09103319063972, 51.268199178405006, 47.62359402150067
Object ID Field: OBJECTID
Fields:
-
OBJECTID
(
type: esriFieldTypeOID, alias: OBJECTID
)
-
Shape
(
type: esriFieldTypeGeometry, alias: Shape
)
-
Name
(
type: esriFieldTypeString, alias: Name, length: 50
)
-
MinPS
(
type: esriFieldTypeDouble, alias: MinPS
)
-
MaxPS
(
type: esriFieldTypeDouble, alias: MaxPS
)
-
LowPS
(
type: esriFieldTypeDouble, alias: LowPS
)
-
HighPS
(
type: esriFieldTypeDouble, alias: HighPS
)
-
Category
(
type: esriFieldTypeInteger, alias: Category
, Coded Values:
[0: Unknown]
, [1: Primary]
, [2: Overview]
, ...5 more...
)
-
Tag
(
type: esriFieldTypeString, alias: Tag, length: 20
)
-
GroupName
(
type: esriFieldTypeString, alias: GroupName, length: 50
)
-
ProductName
(
type: esriFieldTypeString, alias: ProductName, length: 50
)
-
CenterX
(
type: esriFieldTypeDouble, alias: CenterX
)
-
CenterY
(
type: esriFieldTypeDouble, alias: CenterY
)
-
ZOrder
(
type: esriFieldTypeInteger, alias: ZOrder
)
-
SOrder
(
type: esriFieldTypeInteger, alias: SOrder
)
-
StereoID
(
type: esriFieldTypeString, alias: StereoID, length: 50
)
-
Shape_Length
(
type: esriFieldTypeDouble, alias: Shape_Length
)
-
Shape_Area
(
type: esriFieldTypeDouble, alias: Shape_Area
)
Default Mosaic Method: Center
Allowed Mosaic Methods: Center,NorthWest,LockRaster,ByAttribute,Nadir,Viewpoint,Seamline,None
SortField:
SortValue: null
Mosaic Operator: First
Default Compression Quality: 75
Default Resampling Method: Bilinear
Max Record Count: 1000
Max Image Height: 4100
Max Image Width: 15000
Max Download Image Count: 20
Max Mosaic Image Count: 20
Allow Raster Function: true
Allow Copy: true
Allow Analysis: true
Allow Compute TiePoints: false
Supports Statistics: true
Supports Advanced Queries: true
Use StandardizedQueries: true
Raster Type Infos:
Name: Raster Dataset
Description: Supports all ArcGIS Raster Datasets
Help:
Has Raster Attribute Table: false
Edit Fields Info: null
Ownership Based AccessControl For Rasters: null
Child Resources:
Info
Histograms
Statistics
Key Properties
Legend
Raster Function Infos
Supported Operations:
Export Image
Query
Identify
Compute Histograms
Compute Statistics Histograms
Get Samples
Compute Class Statistics
Query Boundary
Compute Pixel Location
Compute Angles
Validate
Project