View In:
ArcGIS JavaScript
ArcGIS Online Map Viewer
ArcGIS Earth
ArcMap
View Footprint In:
ArcGIS Online Map Viewer
Service Description: The primary area is the Bismarck-Mandan Metropolitan Planning Organization (MPO) and vicinity (approximately 400 square miles). The May 6, 2009 aerial photography is courtesy of a partnership between the Bismarck/Mandan MPO, the State of North Dakota, the City of Bismarck, the City of Lincoln, the City of Mandan, Burleigh County, and Morton County.
Name: Imagery/AerialImage_BisMan_2009
Description: The primary area is the Bismarck-Mandan Metropolitan Planning Organization (MPO) and vicinity (approximately 400 square miles). The May 6, 2009 aerial photography is courtesy of a partnership between the Bismarck/Mandan MPO, the State of North Dakota, the City of Bismarck, the City of Lincoln, the City of Mandan, Burleigh County, and Morton County.
Single Fused Map Cache: false
Extent:
XMin: 1820071.1900013387
YMin: 360161.210363633
XMax: 1948017.9340271144
YMax: 480542.969524152
Spatial Reference: 102721
(102721)
LatestVCSWkid(0)
Initial Extent:
XMin: 1820071.1900013387
YMin: 360161.210363633
XMax: 1948017.9340271144
YMax: 480542.969524152
Spatial Reference: 102721
(102721)
LatestVCSWkid(0)
Full Extent:
XMin: 1820071.1900013387
YMin: 360161.210363633
XMax: 1948017.9340271144
YMax: 480542.969524152
Spatial Reference: 102721
(102721)
LatestVCSWkid(0)
Pixel Size X: 0.49999899968649403
Pixel Size Y: 0.4999989996864938
Band Count: 3
Pixel Type: U8
RasterFunction Infos: {"rasterFunctionInfos": [{
"name": "None",
"description": "",
"help": ""
}]}
Mensuration Capabilities:
Has Histograms: true
Has Colormap: false
Has Multi Dimensions : false
Rendering Rule:
Min Scale: 0
Max Scale: 0
Copyright Text: Bismarck-Mandan MPO, State of North Dakota, City of Bismarck, City of Mandan, City of Lincoln, Burleigh and Morton County
Service Data Type: esriImageServiceDataTypeProcessed
Min Values: 0, 0, 0
Max Values: 255, 255, 255
Mean Values: 85.34268624449251, 85.90253480004513, 78.78947800977033
Standard Deviation Values: 22.13678236987328, 20.768351432591803, 18.270968380221134
Object ID Field: OBJECTID
Fields:
-
OBJECTID
(
type: esriFieldTypeOID, alias: OBJECTID
)
-
Shape
(
type: esriFieldTypeGeometry, alias: Shape
)
-
Name
(
type: esriFieldTypeString, alias: Name, length: 50
)
-
MinPS
(
type: esriFieldTypeDouble, alias: MinPS
)
-
MaxPS
(
type: esriFieldTypeDouble, alias: MaxPS
)
-
LowPS
(
type: esriFieldTypeDouble, alias: LowPS
)
-
HighPS
(
type: esriFieldTypeDouble, alias: HighPS
)
-
Category
(
type: esriFieldTypeInteger, alias: Category
)
-
Tag
(
type: esriFieldTypeString, alias: Tag, length: 20
)
-
GroupName
(
type: esriFieldTypeString, alias: GroupName, length: 50
)
-
ProductName
(
type: esriFieldTypeString, alias: ProductName, length: 50
)
-
CenterX
(
type: esriFieldTypeDouble, alias: CenterX
)
-
CenterY
(
type: esriFieldTypeDouble, alias: CenterY
)
-
ZOrder
(
type: esriFieldTypeInteger, alias: ZOrder
)
-
SOrder
(
type: esriFieldTypeInteger, alias: SOrder
)
-
StereoID
(
type: esriFieldTypeString, alias: StereoID, length: 50
)
-
Shape_Length
(
type: esriFieldTypeDouble, alias: Shape_Length
)
-
Shape_Area
(
type: esriFieldTypeDouble, alias: Shape_Area
)
Default Mosaic Method: Center
Allowed Mosaic Methods: Center,NorthWest,LockRaster,ByAttribute,Nadir,Viewpoint,Seamline,None
SortField:
SortValue: null
Mosaic Operator: First
Default Compression Quality: 75
Default Resampling Method: Bilinear
Max Record Count: 1000
Max Image Height: 4100
Max Image Width: 15000
Max Download Image Count: 20
Max Mosaic Image Count: 20
Allow Raster Function: true
Allow Copy: true
Allow Analysis: true
Allow Compute TiePoints: false
Supports Statistics: true
Supports Advanced Queries: true
Use StandardizedQueries: true
Raster Type Infos:
Name: Raster Dataset
Description: Supports all ArcGIS Raster Datasets
Help:
Has Raster Attribute Table: false
Edit Fields Info: null
Ownership Based AccessControl For Rasters: null
Child Resources:
Info
Histograms
Statistics
Key Properties
Legend
Raster Function Infos
Supported Operations:
Export Image
Query
Identify
Compute Histograms
Compute Statistics Histograms
Get Samples
Compute Class Statistics
Query Boundary
Compute Pixel Location
Compute Angles
Validate
Project