View In:
ArcGIS JavaScript
ArcGIS Online Map Viewer
ArcGIS Earth
ArcMap
View Footprint In:
ArcGIS Online Map Viewer
Service Description: Imagery collected by the ND Department of Transportation during June 28, 29, July 5, 2011 for the ND State Water Commission during flood conditions along the Mouse (Souris) River. Pixel size is approximately 0.9-feet.
Name: Flood/AerialImage_MouseRiver_June28_2011
Description: Imagery collected by the ND Department of Transportation during June 28, 29, July 5, 2011 for the ND State Water Commission during flood conditions along the Mouse (Souris) River. Pixel size is approximately 0.9-feet.
Single Fused Map Cache: false
Extent:
XMin: 1606120.970081403
YMin: 337617.32377322094
XMax: 2043471.656170097
YMax: 746578.2900421764
Spatial Reference: 2265
(2265)
LatestVCSWkid(0)
Initial Extent:
XMin: 1606120.970081403
YMin: 337617.32377322094
XMax: 2043471.656170097
YMax: 746578.2900421764
Spatial Reference: 2265
(2265)
LatestVCSWkid(0)
Full Extent:
XMin: 1606120.970081403
YMin: 337617.32377322094
XMax: 2043471.656170097
YMax: 746578.2900421764
Spatial Reference: 2265
(2265)
LatestVCSWkid(0)
Pixel Size X: 0.8287033632943707
Pixel Size Y: 0.8287033632943707
Band Count: 3
Pixel Type: U8
RasterFunction Infos: {"rasterFunctionInfos": [{
"name": "None",
"description": "",
"help": ""
}]}
Mensuration Capabilities:
Has Histograms: true
Has Colormap: false
Has Multi Dimensions : false
Rendering Rule:
Min Scale: 0
Max Scale: 0
Copyright Text: State Water Commission, Department of Transportation, ND GIS Hub
Service Data Type: esriImageServiceDataTypeProcessed
Min Values: 0, 16, 4
Max Values: 255, 255, 255
Mean Values: 92.1186860743842, 107.26023623328308, 100.85219692614727
Standard Deviation Values: 25.232175705978367, 20.469901111868257, 16.78063567771387
Object ID Field: OBJECTID
Fields:
-
OBJECTID
(
type: esriFieldTypeOID, alias: OBJECTID
)
-
Shape
(
type: esriFieldTypeGeometry, alias: Shape
)
-
Name
(
type: esriFieldTypeString, alias: Name, length: 50
)
-
MinPS
(
type: esriFieldTypeDouble, alias: MinPS
)
-
MaxPS
(
type: esriFieldTypeDouble, alias: MaxPS
)
-
LowPS
(
type: esriFieldTypeDouble, alias: LowPS
)
-
HighPS
(
type: esriFieldTypeDouble, alias: HighPS
)
-
Category
(
type: esriFieldTypeInteger, alias: Category
)
-
Tag
(
type: esriFieldTypeString, alias: Tag, length: 20
)
-
GroupName
(
type: esriFieldTypeString, alias: GroupName, length: 50
)
-
ProductName
(
type: esriFieldTypeString, alias: ProductName, length: 50
)
-
CenterX
(
type: esriFieldTypeDouble, alias: CenterX
)
-
CenterY
(
type: esriFieldTypeDouble, alias: CenterY
)
-
ZOrder
(
type: esriFieldTypeInteger, alias: ZOrder
)
-
SOrder
(
type: esriFieldTypeInteger, alias: SOrder
)
-
StereoID
(
type: esriFieldTypeString, alias: StereoID, length: 50
)
-
Shape_Length
(
type: esriFieldTypeDouble, alias: Shape_Length
)
-
Shape_Area
(
type: esriFieldTypeDouble, alias: Shape_Area
)
Default Mosaic Method: Center
Allowed Mosaic Methods: Center,NorthWest,LockRaster,ByAttribute,Nadir,Viewpoint,Seamline,None
SortField:
SortValue: null
Mosaic Operator: First
Default Compression Quality: 75
Default Resampling Method: Bilinear
Max Record Count: 1000
Max Image Height: 4100
Max Image Width: 15000
Max Download Image Count: 20
Max Mosaic Image Count: 20
Allow Raster Function: true
Allow Copy: true
Allow Analysis: true
Allow Compute TiePoints: false
Supports Statistics: true
Supports Advanced Queries: true
Use StandardizedQueries: true
Raster Type Infos:
Name: Raster Dataset
Description: Supports all ArcGIS Raster Datasets
Help:
Has Raster Attribute Table: false
Edit Fields Info: null
Ownership Based AccessControl For Rasters: null
Child Resources:
Info
Histograms
Statistics
Key Properties
Legend
Raster Function Infos
Supported Operations:
Export Image
Query
Identify
Compute Histograms
Compute Statistics Histograms
Get Samples
Compute Class Statistics
Query Boundary
Compute Pixel Location
Compute Angles
Validate
Project