View In:
ArcGIS JavaScript
ArcGIS Online Map Viewer
ArcGIS Earth
ArcMap
View Footprint In:
ArcGIS Online Map Viewer
Service Description: Shaded relief for the Red River and Devils Lake areas, based on the 1m DEM that was developed from LiDAR during the Red River Basin Mapping Program that took place 2008-2010. This LiDAR data is the result of private and government entities working together under the guidance of the International Water Institute (IWI) regarding the Red River Basin Mapping Initiative (RRBMI). The USACE St Louis District was one of the major contributors in this funding effort. Fugro Horizons Inc in cooperation with North West Geomatics, and Fugro EarthData acquired LiDAR with Leica sensor ALS50-II MPiA for the Red River Basin. The Red River Basin covers ND, MN, SD and flows into Canada. The US Red River Basin boundary covers 40,860 sq, with add-on counties is approximately 47,100 sq miles.
Name: Elevation/ShadedRelief_RedRiverDevilsLake_1m_2009
Description: Shaded relief for the Red River and Devils Lake areas, based on the 1m DEM that was developed from LiDAR during the Red River Basin Mapping Program that took place 2008-2010. This LiDAR data is the result of private and government entities working together under the guidance of the International Water Institute (IWI) regarding the Red River Basin Mapping Initiative (RRBMI). The USACE St Louis District was one of the major contributors in this funding effort. Fugro Horizons Inc in cooperation with North West Geomatics, and Fugro EarthData acquired LiDAR with Leica sensor ALS50-II MPiA for the Red River Basin. The Red River Basin covers ND, MN, SD and flows into Canada. The US Red River Basin boundary covers 40,860 sq, with add-on counties is approximately 47,100 sq miles.
Single Fused Map Cache: false
Extent:
XMin: 378000.00000000093
YMin: 5036000.0
XMax: 778000.0000000009
YMax: 5434000.0
Spatial Reference: 26914
(26914)
LatestVCSWkid(0)
Initial Extent:
XMin: 378000.00000000093
YMin: 5036000.0
XMax: 778000.0000000009
YMax: 5434000.0
Spatial Reference: 26914
(26914)
LatestVCSWkid(0)
Full Extent:
XMin: 378000.00000000093
YMin: 5036000.0
XMax: 778000.0000000009
YMax: 5434000.0
Spatial Reference: 26914
(26914)
LatestVCSWkid(0)
Pixel Size X: 1.0
Pixel Size Y: 1.0
Band Count: 1
Pixel Type: U8
RasterFunction Infos: {"rasterFunctionInfos": [{
"name": "None",
"description": "",
"help": ""
}]}
Mensuration Capabilities:
Has Histograms: true
Has Colormap: false
Has Multi Dimensions : false
Rendering Rule:
Min Scale: 0
Max Scale: 0
Copyright Text: North Dakota state agencies, the ND GIS Hub, International Water Institute
Service Data Type: esriImageServiceDataTypeProcessed
Min Values: 751.3123168945312
Max Values: 2379.035400390625
Mean Values: 1228.907220328231
Standard Deviation Values: 297.0807649646081
Object ID Field: OBJECTID
Fields:
-
OBJECTID
(
type: esriFieldTypeOID, alias: OBJECTID
)
-
Shape
(
type: esriFieldTypeGeometry, alias: Shape
)
-
Name
(
type: esriFieldTypeString, alias: Name, length: 50
)
-
MinPS
(
type: esriFieldTypeDouble, alias: MinPS
)
-
MaxPS
(
type: esriFieldTypeDouble, alias: MaxPS
)
-
LowPS
(
type: esriFieldTypeDouble, alias: LowPS
)
-
HighPS
(
type: esriFieldTypeDouble, alias: HighPS
)
-
Category
(
type: esriFieldTypeInteger, alias: Category
)
-
Tag
(
type: esriFieldTypeString, alias: Tag, length: 20
)
-
GroupName
(
type: esriFieldTypeString, alias: GroupName, length: 50
)
-
ProductName
(
type: esriFieldTypeString, alias: ProductName, length: 50
)
-
CenterX
(
type: esriFieldTypeDouble, alias: CenterX
)
-
CenterY
(
type: esriFieldTypeDouble, alias: CenterY
)
-
ZOrder
(
type: esriFieldTypeInteger, alias: ZOrder
)
-
SOrder
(
type: esriFieldTypeInteger, alias: SOrder
)
-
StereoID
(
type: esriFieldTypeString, alias: StereoID, length: 50
)
-
Source
(
type: esriFieldTypeString, alias: Source, length: 50
)
-
Best
(
type: esriFieldTypeSingle, alias: Best
)
-
Shape_Length
(
type: esriFieldTypeDouble, alias: Shape_Length
)
-
Shape_Area
(
type: esriFieldTypeDouble, alias: Shape_Area
)
Default Mosaic Method: ByAttribute
Allowed Mosaic Methods: ByAttribute,Center,NorthWest,LockRaster,Nadir,Viewpoint,None
SortField: Best
SortValue: 0
Mosaic Operator: First
Default Compression Quality: 75
Default Resampling Method: Nearest
Max Record Count: 1000
Max Image Height: 4100
Max Image Width: 15000
Max Download Image Count: 20
Max Mosaic Image Count: 20
Allow Raster Function: true
Allow Copy: true
Allow Analysis: true
Allow Compute TiePoints: false
Supports Statistics: true
Supports Advanced Queries: true
Use StandardizedQueries: true
Raster Type Infos:
Name: Raster Dataset
Description: Supports all ArcGIS Raster Datasets
Help:
Has Raster Attribute Table: false
Edit Fields Info: null
Ownership Based AccessControl For Rasters: null
Child Resources:
Info
Histograms
Statistics
Key Properties
Legend
Raster Function Infos
Supported Operations:
Export Image
Query
Identify
Compute Histograms
Compute Statistics Histograms
Get Samples
Compute Class Statistics
Query Boundary
Compute Pixel Location
Compute Angles
Validate
Project