View In:
ArcGIS JavaScript
ArcGIS Online Map Viewer
ArcGIS Earth
ArcGIS Pro
Service Description: <DIV STYLE="text-align:Left;font-size:12pt"><P><SPAN>The 2021 state legislature passed a bill to allow electronic posting of private land, giving landowners another option for posting private property. The law is in effect starting August 1, 2021.</SPAN></P></DIV>
Map Name: NDGFEpostedLands
Legend
All Layers and Tables
Dynamic Legend
Dynamic All Layers
Layers:
Description: The 2021 state legislature passed a bill to allow electronic posting of private land, giving landowners another option for posting private property. The law is in effect starting August 1, 2021.
Copyright Text: North Dakota Game and Fish Department and the ND GIS Hub
Spatial Reference:
102100
(3857)
LatestVCSWkid(0)
Single Fused Map Cache: true
Tile Info:
- Height: 256.0
- Width: 256.0
- DPI: 96.0
-
Levels of Detail: 24
-
Level ID: 1
[ Start Tile, End Tile ]
- Resolution: 78271.5169639999
- Scale: 2.95828763795777E8
-
Level ID: 2
[ Start Tile, End Tile ]
- Resolution: 39135.7584820001
- Scale: 1.47914381897889E8
-
Level ID: 3
[ Start Tile, End Tile ]
- Resolution: 19567.8792409999
- Scale: 7.3957190948944E7
-
Level ID: 4
[ Start Tile, End Tile ]
- Resolution: 9783.93962049996
- Scale: 3.6978595474472E7
-
Level ID: 5
[ Start Tile, End Tile ]
- Resolution: 4891.96981024998
- Scale: 1.8489297737236E7
- Format: MIXED
- Compression Quality: 75.0
- Origin: X: -2.0037508342787E7
Y: 2.0037508342787E7
- Spatial Reference: 102100
(3857)
LatestVCSWkid(0)
Storage Info:
- Storage Format: esriMapCacheStorageModeCompactV2
- Packet Size: 128
Initial Extent:
XMin: -1.1603796629175434E7
YMin: 5694560.9043756
XMax: -1.0729519965859456E7
YMax: 6350268.401862582
Spatial Reference: 102100
(3857)
LatestVCSWkid(0)
Full Extent:
XMin: -1.1603796629175434E7
YMin: 5694560.9043756
XMax: -1.0729519965859456E7
YMax: 6350268.401862582
Spatial Reference: 102100
(3857)
LatestVCSWkid(0)
Units: esriMeters
Supported Image Format Types: PNG32,PNG24,PNG,JPG,DIB,TIFF,EMF,PS,PDF,GIF,SVG,SVGZ,BMP
Document Info:
Title: GNF_EpostedLands
Author:
Comments: The 2021 state legislature passed a bill to allow electronic posting of private land, giving landowners another option for posting private property. The law is in effect starting August 1, 2021.
Subject: North Dakota Game and Fish Department Electronically Posted Lands
Category:
Keywords: Game and Fish,hunting,lands,posted
AntialiasingMode: Fast
TextAntialiasingMode: Force
Supports Dynamic Layers: true
MaxRecordCount: 2000
MaxSelectionCount: 2000
MaxImageHeight: 4096
MaxImageWidth: 4096
Supported Query Formats: JSON, geoJSON, PBF
Supports Query Data Elements: true
Min Scale: 5.91657527591555E8
Max Scale: 4513.988705
Supports Datum Transformation: true
Child Resources:
Info
Dynamic Layer
Supported Operations:
Export Map
Identify
QueryLegends
QueryDomains
Find
Return Updates