{
"currentVersion": 11.5,
"serviceDescription": "<div style=''><div><p><span>This data set contains color infrared aerial photography from the National Agriculture Imagery Program (NAIP). The NAIP acquires digital ortho imagery during the agricultural growing seasons in the continental U.S.<\/span><\/p><\/div><\/div>",
"name": "Imagery/AerialImage_ND_2009_CIR",
"description": "<div style=''><div><p><span>This data set contains color infrared aerial photography from the National Agriculture Imagery Program (NAIP). The NAIP acquires digital ortho imagery during the agricultural growing seasons in the continental U.S.<\/span><\/p><\/div><\/div>",
"extent": {
"xmin": 107158.89584159851,
"ymin": 5079941.9920448605,
"xmax": 694324.8958415985,
"ymax": 5440516.9920448605,
"spatialReference": {
"wkid": 26914,
"latestWkid": 26914
}
},
"initialExtent": {
"xmin": 107158.89584159851,
"ymin": 5079941.9920448605,
"xmax": 694324.8958415985,
"ymax": 5440516.9920448605,
"spatialReference": {
"wkid": 26914,
"latestWkid": 26914
}
},
"fullExtent": {
"xmin": 107158.89584159851,
"ymin": 5079941.9920448605,
"xmax": 694324.8958415985,
"ymax": 5440516.9920448605,
"spatialReference": {
"wkid": 26914,
"latestWkid": 26914
}
},
"sortableFields": "",
"bandCount": 3,
"pixelType": "U8",
"minValues": [
0,
0,
0
],
"maxValues": [
255,
255,
255
],
"meanValues": [
113.54273155259746,
127.77763236182405,
111.46969755241196
],
"stdvValues": [
29.345760734827213,
22.47816838409748,
23.713032563504658
],
"serviceProperties": "<ImageServer><ImageServiceProperties><MosaicMethod>Center<\/MosaicMethod><MosaicOperator>First<\/MosaicOperator><SortAscending>true<\/SortAscending><LockImageID><\/LockImageID><TileOrderField>Name<\/TileOrderField><TileOrderBase>0<\/TileOrderBase><AvgImageSpacingX>600.000000<\/AvgImageSpacingX><AvgImageSpacingY>300.000000<\/AvgImageSpacingY><ViewPointX>0.0<\/ViewPointX><ViewPointY>0.0<\/ViewPointY><ViewPointDefShiftX>0.0<\/ViewPointDefShiftX><ViewPointDefShiftY>0.0<\/ViewPointDefShiftY><CompressionMethod>JPEG<\/CompressionMethod><CompressionQuality>75<\/CompressionQuality><CompressionTolerance>0.010000<\/CompressionTolerance><SamplingMethod>Bilinear<\/SamplingMethod><\/ImageServiceProperties><\/ImageServer>",
"allowedFields": "Name,MinPS,MaxPS,LowPS,HighPS,Tag,GroupName,ProductName,CenterX,CenterY,ZOrder,SOrder,StereoID,Shape_Length,Shape_Area",
"hasMultidimensions": false,
"pixelSizeX": 1,
"pixelSizeY": 1,
"meanPixelSize": 1,
"datasetFormat": "AMD",
"uncompressedSize": 635152141350,
"blockWidth": 2048,
"blockHeight": 256,
"compressionType": "None",
"bandNames": [
"Band_4",
"Band_2",
"Band_3"
],
"allowCopy": true,
"allowAnalysis": true,
"itemAccess": false,
"inspectionCapabilities": "",
"minPixelSize": 0,
"maxPixelSize": 0,
"copyrightText": "USDA-APFO, and the ND GIS Hub",
"serviceDataType": "esriImageServiceDataTypeProcessed",
"serviceSourceType": "esriImageServiceSourceTypeMosaicDataset",
"objectIdField": "OBJECTID",
"fields": [
{
"name": "OBJECTID",
"type": "esriFieldTypeOID",
"alias": "OBJECTID",
"domain": null
},
{
"name": "Shape",
"type": "esriFieldTypeGeometry",
"alias": "Shape",
"domain": null
},
{
"name": "Name",
"type": "esriFieldTypeString",
"alias": "Name",
"domain": null,
"length": 50
},
{
"name": "MinPS",
"type": "esriFieldTypeDouble",
"alias": "MinPS",
"domain": null
},
{
"name": "MaxPS",
"type": "esriFieldTypeDouble",
"alias": "MaxPS",
"domain": null
},
{
"name": "LowPS",
"type": "esriFieldTypeDouble",
"alias": "LowPS",
"domain": null
},
{
"name": "HighPS",
"type": "esriFieldTypeDouble",
"alias": "HighPS",
"domain": null
},
{
"name": "Category",
"type": "esriFieldTypeInteger",
"alias": "Category",
"domain": null
},
{
"name": "Tag",
"type": "esriFieldTypeString",
"alias": "Tag",
"domain": null,
"length": 20
},
{
"name": "GroupName",
"type": "esriFieldTypeString",
"alias": "GroupName",
"domain": null,
"length": 50
},
{
"name": "ProductName",
"type": "esriFieldTypeString",
"alias": "ProductName",
"domain": null,
"length": 50
},
{
"name": "CenterX",
"type": "esriFieldTypeDouble",
"alias": "CenterX",
"domain": null
},
{
"name": "CenterY",
"type": "esriFieldTypeDouble",
"alias": "CenterY",
"domain": null
},
{
"name": "ZOrder",
"type": "esriFieldTypeInteger",
"alias": "ZOrder",
"domain": null
},
{
"name": "SOrder",
"type": "esriFieldTypeInteger",
"alias": "SOrder",
"domain": null
},
{
"name": "StereoID",
"type": "esriFieldTypeString",
"alias": "StereoID",
"domain": null,
"length": 50
},
{
"name": "Shape_Length",
"type": "esriFieldTypeDouble",
"alias": "Shape_Length",
"domain": null
},
{
"name": "Shape_Area",
"type": "esriFieldTypeDouble",
"alias": "Shape_Area",
"domain": null
}
],
"capabilities": "Catalog,Image,Metadata",
"defaultMosaicMethod": "Center",
"allowedMosaicMethods": "Center,NorthWest,LockRaster,ByAttribute,Nadir,Viewpoint,Seamline,None",
"sortField": "",
"sortValue": null,
"sortAscending": true,
"mosaicOperator": "First",
"maxDownloadSizeLimit": 0,
"defaultCompressionQuality": 75,
"defaultResamplingMethod": "Bilinear",
"maxImageHeight": 4100,
"maxImageWidth": 15000,
"maxRecordCount": 1000,
"maxDownloadImageCount": 20,
"maxMosaicImageCount": 20,
"allowRasterFunction": true,
"rasterFunctionInfos": [
{
"name": "None",
"description": "",
"help": ""
}
],
"rasterTypeInfos": [
{
"name": "Raster Dataset",
"description": "Supports all ArcGIS Raster Datasets",
"help": ""
}
],
"mensurationCapabilities": "",
"hasHistograms": true,
"hasColormap": false,
"hasRasterAttributeTable": false,
"minScale": 0,
"maxScale": 0,
"exportTilesAllowed": false,
"supportsStatistics": true,
"supportsAdvancedQueries": true,
"editFieldsInfo": null,
"ownershipBasedAccessControlForRasters": null,
"allowComputeTiePoints": false,
"useStandardizedQueries": true,
"advancedQueryCapabilities": {
"useStandardizedQueries": true,
"supportsStatistics": true,
"supportsOrderBy": true,
"supportsDistinct": true,
"supportsPagination": true
},
"spatialReference": {
"wkid": 26914,
"latestWkid": 26914
},
"resampling": false
}