{
 "currentVersion": 10.91,
 "serviceDescription": "Merrick & Company produced Digital Color Orthophotography of 0.5 foot, 1 foot, 2 foot, 4 foot and 8 foot resolutions for the 2017 Fargo Digital Mapping project. Orthophotography combines the image characteristics of a photograph with the geometric qualities of a map. Credits: City of Fargo, Merrick & Company",
 "name": "Imagery/AerialImage_Fargo_2017",
 "description": "Merrick & Company produced Digital Color Orthophotography of 0.5 foot, 1 foot, 2 foot, 4 foot and 8 foot resolutions for the 2017 Fargo Digital Mapping project. Orthophotography combines the image characteristics of a photograph with the geometric qualities of a map. Credits: City of Fargo, Merrick & Company",
 "extent": {
  "xmin": 2823787,
  "ymin": 307129,
  "xmax": 3034223,
  "ymax": 573413.5,
  "spatialReference": {"wkt": "PROJCS[\"NAD_1983_NSRS2007_StatePlane_North_Dakota_South_FIPS_3302_Feet\",GEOGCS[\"GCS_NAD_1983_NSRS2007\",DATUM[\"D_NAD_1983_NSRS2007\",SPHEROID[\"GRS_1980\",6378137.0,298.257222101]],PRIMEM[\"Greenwich\",0.0],UNIT[\"Degree\",0.0174532925199433]],PROJECTION[\"Lambert_Conformal_Conic\"],PARAMETER[\"false_easting\",1968500.0],PARAMETER[\"false_northing\",0.0],PARAMETER[\"central_meridian\",-100.5],PARAMETER[\"standard_parallel_1\",46.18333333333333],PARAMETER[\"standard_parallel_2\",47.48333333333333],PARAMETER[\"latitude_of_origin\",45.66666666666666],UNIT[\"Foot_US\",0.3048006096012192]]"}
 },
 "initialExtent": {
  "xmin": 2823787,
  "ymin": 307129,
  "xmax": 3034223,
  "ymax": 573413.5,
  "spatialReference": {"wkt": "PROJCS[\"NAD_1983_NSRS2007_StatePlane_North_Dakota_South_FIPS_3302_Feet\",GEOGCS[\"GCS_NAD_1983_NSRS2007\",DATUM[\"D_NAD_1983_NSRS2007\",SPHEROID[\"GRS_1980\",6378137.0,298.257222101]],PRIMEM[\"Greenwich\",0.0],UNIT[\"Degree\",0.0174532925199433]],PROJECTION[\"Lambert_Conformal_Conic\"],PARAMETER[\"false_easting\",1968500.0],PARAMETER[\"false_northing\",0.0],PARAMETER[\"central_meridian\",-100.5],PARAMETER[\"standard_parallel_1\",46.18333333333333],PARAMETER[\"standard_parallel_2\",47.48333333333333],PARAMETER[\"latitude_of_origin\",45.66666666666666],UNIT[\"Foot_US\",0.3048006096012192]]"}
 },
 "fullExtent": {
  "xmin": 2823787,
  "ymin": 307129,
  "xmax": 3034223,
  "ymax": 573413.5,
  "spatialReference": {"wkt": "PROJCS[\"NAD_1983_NSRS2007_StatePlane_North_Dakota_South_FIPS_3302_Feet\",GEOGCS[\"GCS_NAD_1983_NSRS2007\",DATUM[\"D_NAD_1983_NSRS2007\",SPHEROID[\"GRS_1980\",6378137.0,298.257222101]],PRIMEM[\"Greenwich\",0.0],UNIT[\"Degree\",0.0174532925199433]],PROJECTION[\"Lambert_Conformal_Conic\"],PARAMETER[\"false_easting\",1968500.0],PARAMETER[\"false_northing\",0.0],PARAMETER[\"central_meridian\",-100.5],PARAMETER[\"standard_parallel_1\",46.18333333333333],PARAMETER[\"standard_parallel_2\",47.48333333333333],PARAMETER[\"latitude_of_origin\",45.66666666666666],UNIT[\"Foot_US\",0.3048006096012192]]"}
 },
 "hasMultidimensions": false,
 "pixelSizeX": 0.5,
 "pixelSizeY": 0.5,
 "datasetFormat": "AMD",
 "uncompressedSize": 672430140504,
 "blockWidth": 2048,
 "blockHeight": 256,
 "compressionType": "None",
 "bandNames": [
  "Band_1",
  "Band_2",
  "Band_3"
 ],
 "allowCopy": true,
 "allowAnalysis": true,
 "bandCount": 3,
 "pixelType": "U8",
 "minPixelSize": 0,
 "maxPixelSize": 0,
 "copyrightText": "",
 "serviceDataType": "esriImageServiceDataTypeProcessed",
 "serviceSourceType": "esriImageServiceSourceTypeMosaicDataset",
 "minValues": [
  0,
  6,
  23
 ],
 "maxValues": [
  255,
  255,
  255
 ],
 "meanValues": [
  155.63472331075582,
  145.40217908525486,
  128.72356267144093
 ],
 "stdvValues": [
  29.412453674970756,
  26.052940787897725,
  23.04484308501909
 ],
 "objectIdField": "OBJECTID",
 "fields": [
  {
   "name": "OBJECTID",
   "type": "esriFieldTypeOID",
   "alias": "OBJECTID",
   "domain": null
  },
  {
   "name": "Shape",
   "type": "esriFieldTypeGeometry",
   "alias": "Shape",
   "domain": null
  },
  {
   "name": "Name",
   "type": "esriFieldTypeString",
   "alias": "Name",
   "domain": null,
   "length": 200
  },
  {
   "name": "MinPS",
   "type": "esriFieldTypeDouble",
   "alias": "MinPS",
   "domain": null
  },
  {
   "name": "MaxPS",
   "type": "esriFieldTypeDouble",
   "alias": "MaxPS",
   "domain": null
  },
  {
   "name": "LowPS",
   "type": "esriFieldTypeDouble",
   "alias": "LowPS",
   "domain": null
  },
  {
   "name": "HighPS",
   "type": "esriFieldTypeDouble",
   "alias": "HighPS",
   "domain": null
  },
  {
   "name": "Category",
   "type": "esriFieldTypeInteger",
   "alias": "Category",
   "domain": {
    "type": "codedValue",
    "name": "MosaicCatalogItemCategoryDomain",
    "description": "Catalog item categories.",
    "codedValues": [
     {
      "name": "Unknown",
      "code": 0
     },
     {
      "name": "Primary",
      "code": 1
     },
     {
      "name": "Overview",
      "code": 2
     },
     {
      "name": "Unprocessed Overview",
      "code": 3
     },
     {
      "name": "Partial Overview",
      "code": 4
     },
     {
      "name": "Inactive",
      "code": 5
     },
     {
      "name": "Uploaded",
      "code": 253
     },
     {
      "name": "Incomplete",
      "code": 254
     },
     {
      "name": "Custom",
      "code": 255
     }
    ],
    "mergePolicy": "esriMPTDefaultValue",
    "splitPolicy": "esriSPTDefaultValue"
   }
  },
  {
   "name": "Tag",
   "type": "esriFieldTypeString",
   "alias": "Tag",
   "domain": null,
   "length": 100
  },
  {
   "name": "GroupName",
   "type": "esriFieldTypeString",
   "alias": "GroupName",
   "domain": null,
   "length": 100
  },
  {
   "name": "ProductName",
   "type": "esriFieldTypeString",
   "alias": "ProductName",
   "domain": null,
   "length": 100
  },
  {
   "name": "CenterX",
   "type": "esriFieldTypeDouble",
   "alias": "CenterX",
   "domain": null
  },
  {
   "name": "CenterY",
   "type": "esriFieldTypeDouble",
   "alias": "CenterY",
   "domain": null
  },
  {
   "name": "ZOrder",
   "type": "esriFieldTypeInteger",
   "alias": "ZOrder",
   "domain": null
  },
  {
   "name": "Shape_Length",
   "type": "esriFieldTypeDouble",
   "alias": "Shape_Length",
   "domain": null
  },
  {
   "name": "Shape_Area",
   "type": "esriFieldTypeDouble",
   "alias": "Shape_Area",
   "domain": null
  }
 ],
 "capabilities": "Image,Metadata,Catalog",
 "defaultMosaicMethod": "Northwest",
 "allowedMosaicMethods": "NorthWest,Center,LockRaster,ByAttribute,Nadir,Viewpoint,Seamline,None",
 "sortField": "",
 "sortValue": null,
 "sortAscending": true,
 "mosaicOperator": "First",
 "maxDownloadSizeLimit": 2048,
 "defaultCompressionQuality": 75,
 "defaultResamplingMethod": "Bilinear",
 "maxImageHeight": 4100,
 "maxImageWidth": 15000,
 "maxRecordCount": 1000,
 "maxDownloadImageCount": 20,
 "maxMosaicImageCount": 50,
 "allowRasterFunction": true,
 "rasterFunctionInfos": [
  {
   "name": "None",
   "description": "A No-Op Function.",
   "help": ""
  }
 ],
 "rasterTypeInfos": [
  {
   "name": "Raster Dataset",
   "description": "Supports all ArcGIS Raster Datasets",
   "help": ""
  }
 ],
 "mensurationCapabilities": "None",
 "hasHistograms": true,
 "hasColormap": false,
 "hasRasterAttributeTable": false,
 "minScale": 0,
 "maxScale": 0,
 "exportTilesAllowed": false,
 "supportsStatistics": true,
 "supportsAdvancedQueries": true,
 "editFieldsInfo": null,
 "ownershipBasedAccessControlForRasters": null,
 "allowComputeTiePoints": false,
 "useStandardizedQueries": true,
 "advancedQueryCapabilities": {
  "useStandardizedQueries": true,
  "supportsStatistics": true,
  "supportsOrderBy": true,
  "supportsDistinct": true,
  "supportsPagination": true
 },
 "spatialReference": {"wkt": "PROJCS[\"NAD_1983_NSRS2007_StatePlane_North_Dakota_South_FIPS_3302_Feet\",GEOGCS[\"GCS_NAD_1983_NSRS2007\",DATUM[\"D_NAD_1983_NSRS2007\",SPHEROID[\"GRS_1980\",6378137.0,298.257222101]],PRIMEM[\"Greenwich\",0.0],UNIT[\"Degree\",0.0174532925199433]],PROJECTION[\"Lambert_Conformal_Conic\"],PARAMETER[\"false_easting\",1968500.0],PARAMETER[\"false_northing\",0.0],PARAMETER[\"central_meridian\",-100.5],PARAMETER[\"standard_parallel_1\",46.18333333333333],PARAMETER[\"standard_parallel_2\",47.48333333333333],PARAMETER[\"latitude_of_origin\",45.66666666666666],UNIT[\"Foot_US\",0.3048006096012192]]"}
}