{
 "currentVersion": 10.91,
 "serviceDescription": "As part of delineating the ordinary high-water mark (OHWM), Wenck georeferenced aerial imagery collected before the installation of the Lake Sakakawea dam. The North Dakota Department of Mineral Resources (DMR) provided single frame aerial imagery for the years 1951 and 1943. Photos were georeferenced using imagery from 2016 to match road crossings and rock outcrops. The 2016 photos were downloaded from Geospatial Data Gateway as SID files as opposed to using the streaming web service. Images were projected on the fly from NAD 83 UTM Zone 13 North to NAD 83 North Dakota North State Plane. Aerial photos included several referencing points through refinement and distorted areas were clipped on the periphery of the images.\n \nPhotos were inspected and clipped to remove highly distorted areas. Clipping the images on the far edge of the photos removed warping and creases; this is a legacy of scanning paper maps. Areas extending one mile outside of the draft OHWM were clipped.\n \nGeoreferenced photos started at the western edge of the project area and continued east to New Town. Approximately 30 to 50 control points were placed manually to reference each image. Road crossings, farmsteads, and rock outcrops were used to reference the 1951 imagery to the 2016 NAIP photos. To help with edge matching, auto-referencing was used to place high concentrations of similar points on adjacent photos. When auto-referencing was used, the amount of control points significantly increased. Auto-reference points with high residuals were deleted. A second or third order polynomial transformation was used to fit the 1951 photo to the 2016 photo. The photo was checked for distortion and warping; control points were adjusted accordingly to minimize image distortion.\n \nThe single frame photos were mosaiced together to create a seamless image for the project area and stored in a file geodatabase. The file geodatabase utilizes ESRI\u2019s ArcGIS.",
 "name": "Applications/DMR_OHWM_AerialPhotos",
 "description": "As part of delineating the ordinary high-water mark (OHWM), Wenck georeferenced aerial imagery collected before the installation of the Lake Sakakawea dam. The North Dakota Department of Mineral Resources (DMR) provided single frame aerial imagery for the years 1951 and 1943. Photos were georeferenced using imagery from 2016 to match road crossings and rock outcrops. The 2016 photos were downloaded from Geospatial Data Gateway as SID files as opposed to using the streaming web service. Images were projected on the fly from NAD 83 UTM Zone 13 North to NAD 83 North Dakota North State Plane. Aerial photos included several referencing points through refinement and distorted areas were clipped on the periphery of the images.\n \nPhotos were inspected and clipped to remove highly distorted areas. Clipping the images on the far edge of the photos removed warping and creases; this is a legacy of scanning paper maps. Areas extending one mile outside of the draft OHWM were clipped.\n \nGeoreferenced photos started at the western edge of the project area and continued east to New Town. Approximately 30 to 50 control points were placed manually to reference each image. Road crossings, farmsteads, and rock outcrops were used to reference the 1951 imagery to the 2016 NAIP photos. To help with edge matching, auto-referencing was used to place high concentrations of similar points on adjacent photos. When auto-referencing was used, the amount of control points significantly increased. Auto-reference points with high residuals were deleted. A second or third order polynomial transformation was used to fit the 1951 photo to the 2016 photo. The photo was checked for distortion and warping; control points were adjusted accordingly to minimize image distortion.\n \nThe single frame photos were mosaiced together to create a seamless image for the project area and stored in a file geodatabase. The file geodatabase utilizes ESRI\u2019s ArcGIS.",
 "extent": {
  "xmin": 1147947.050788477,
  "ymin": 370120.3883558959,
  "xmax": 1468090.2039097496,
  "ymax": 434087.2947218365,
  "spatialReference": {
   "wkid": 102720,
   "latestWkid": 102720
  }
 },
 "initialExtent": {
  "xmin": 1147947.050788477,
  "ymin": 370120.3883558959,
  "xmax": 1468090.2039097496,
  "ymax": 434087.2947218365,
  "spatialReference": {
   "wkid": 102720,
   "latestWkid": 102720
  }
 },
 "fullExtent": {
  "xmin": 1147947.050788477,
  "ymin": 370120.3883558959,
  "xmax": 1468090.2039097496,
  "ymax": 434087.2947218365,
  "spatialReference": {
   "wkid": 102720,
   "latestWkid": 102720
  }
 },
 "hasMultidimensions": false,
 "pixelSizeX": 4.1149505542580025,
 "pixelSizeY": 4.114950554258002,
 "datasetFormat": "FGDBR",
 "uncompressedSize": 1209401000,
 "blockWidth": 128,
 "blockHeight": 128,
 "compressionType": "LZ77",
 "bandNames": [
  "Band_1"
 ],
 "allowCopy": true,
 "allowAnalysis": true,
 "bandCount": 1,
 "pixelType": "U8",
 "minPixelSize": 0,
 "maxPixelSize": 0,
 "copyrightText": "DMR, ND GIS Hub",
 "serviceDataType": "esriImageServiceDataTypeProcessed",
 "serviceSourceType": "esriImageServiceSourceTypeDataset",
 "minValues": [
  39
 ],
 "maxValues": [
  243
 ],
 "meanValues": [
  126.47413248318831
 ],
 "stdvValues": [
  22.392480232114604
 ],
 "objectIdField": "",
 "fields": [],
 "capabilities": "Mensuration,Image,Metadata",
 "defaultMosaicMethod": "Center",
 "allowedMosaicMethods": "",
 "sortField": "",
 "sortValue": null,
 "sortAscending": true,
 "mosaicOperator": "First",
 "defaultCompressionQuality": 75,
 "defaultResamplingMethod": "Bilinear",
 "maxImageHeight": 4100,
 "maxImageWidth": 15000,
 "allowRasterFunction": true,
 "rasterFunctionInfos": [
  {
   "name": "None",
   "description": "",
   "help": ""
  }
 ],
 "rasterTypeInfos": [
  {
   "name": "Raster Dataset",
   "description": "Supports all ArcGIS Raster Datasets",
   "help": ""
  }
 ],
 "mensurationCapabilities": "Basic",
 "hasHistograms": true,
 "hasColormap": false,
 "hasRasterAttributeTable": true,
 "minScale": 0,
 "maxScale": 0,
 "exportTilesAllowed": false,
 "supportsStatistics": false,
 "supportsAdvancedQueries": false,
 "editFieldsInfo": null,
 "ownershipBasedAccessControlForRasters": null,
 "allowComputeTiePoints": false,
 "useStandardizedQueries": true,
 "advancedQueryCapabilities": {
  "useStandardizedQueries": true,
  "supportsStatistics": false,
  "supportsOrderBy": false,
  "supportsDistinct": false,
  "supportsPagination": false
 },
 "spatialReference": {
  "wkid": 102720,
  "latestWkid": 102720
 }
}
